BEGIN:VCALENDAR
VERSION:2.0
PRODID:-//Karate WA - ECPv4.8.1//NONSGML v1.0//EN
CALSCALE:GREGORIAN
METHOD:PUBLISH
X-WR-CALNAME:Karate WA
X-ORIGINAL-URL:http://brianmackieskarate.com.au
X-WR-CALDESC:Events for Karate WA
BEGIN:VEVENT
DTSTART;TZID=UTC+0:20170611T090000
DTEND;TZID=UTC+0:20170611T123000
DTSTAMP:20190301T073006
CREATED:20170529T095032Z
LAST-MODIFIED:20170529T095034Z
UID:182-1497171600-1497184200@brianmackieskarate.com.au
SUMMARY:Goju Kai Development Tournament
DESCRIPTION:
URL:http://brianmackieskarate.com.au/event/goju-kai-development-tournament/
LOCATION:Wesley College\, South Perth\, Australia
CATEGORIES:Tournament
ATTACH;FMTTYPE=image/png:http://brianmackieskarate.com.au/wp-content/uploads/2017/05/cropped-IKGA_30th_COL-e1431345495221-192x192.png
END:VEVENT
END:VCALENDAR