BEGIN:VCALENDAR
VERSION:2.0
PRODID:-//Karate WA - ECPv4.8.1//NONSGML v1.0//EN
CALSCALE:GREGORIAN
METHOD:PUBLISH
X-WR-CALNAME:Karate WA
X-ORIGINAL-URL:http://brianmackieskarate.com.au
X-WR-CALDESC:Events for Karate WA
BEGIN:VEVENT
DTSTART;TZID=Australia/Perth:20170624T090000
DTEND;TZID=Australia/Perth:20170624T170000
DTSTAMP:20190301T072750
CREATED:20170529T122403Z
LAST-MODIFIED:20170529T122405Z
UID:199-1498294800-1498323600@brianmackieskarate.com.au
SUMMARY:Junior Gradings
DESCRIPTION:White Belts 9:00am\nOrange Belts 10:00am\nYellow Belts 11:00am\nGreen Belts 1:00pm\nBlue Belts  2:00pm\nBrown & Black Belts 3:00pm \nFORMS NEED TO BE SUBMITTED BEFORE THURSDAY 22ND JUNE. \n
URL:http://brianmackieskarate.com.au/event/junior-gradings/
LOCATION:Hombu Dojo Perth\, 43 Milligan Street\, Perth\, Western Australia\, 6000\, Australia
CATEGORIES:Grading
ATTACH;FMTTYPE=image/png:http://brianmackieskarate.com.au/wp-content/uploads/2017/05/cropped-IKGA_30th_COL-e1431345495221-192x192-1.png
END:VEVENT
END:VCALENDAR